BEGIN:VCALENDAR
VERSION:2.0
PRODID:-//Murang&#039;a University of Technology - ECPv6.15.14//NONSGML v1.0//EN
CALSCALE:GREGORIAN
METHOD:PUBLISH
X-WR-CALNAME:Murang&#039;a University of Technology
X-ORIGINAL-URL:https://www.mut.ac.ke
X-WR-CALDESC:Events for Murang&#039;a University of Technology
REFRESH-INTERVAL;VALUE=DURATION:PT1H
X-Robots-Tag:noindex
X-PUBLISHED-TTL:PT1H
BEGIN:VTIMEZONE
TZID:UTC
BEGIN:STANDARD
TZOFFSETFROM:+0000
TZOFFSETTO:+0000
TZNAME:UTC
DTSTART:20220101T000000
END:STANDARD
END:VTIMEZONE
BEGIN:VEVENT
DTSTART;TZID=UTC:20230310T080000
DTEND;TZID=UTC:20230311T170000
DTSTAMP:20260420T233650
CREATED:20230222T063045Z
LAST-MODIFIED:20240208T075139Z
UID:9431-1678435200-1678554000@www.mut.ac.ke
SUMMARY:Farmers Field Day & Exhibition
DESCRIPTION:Two (2) Days of Free Farmers Training at Mariira Farm
URL:https://www.mut.ac.ke/event/mariira-farm-farmers-field-day-exhibition-of-free-training/
ATTACH;FMTTYPE=image/jpeg:https://www.mut.ac.ke/wp-content/uploads/2023/02/WhatsApp-Image-2023-02-22-at-12.19.50.jpeg
END:VEVENT
END:VCALENDAR