BEGIN:VCALENDAR
VERSION:2.0
PRODID:-//Murang&#039;a University of Technology - ECPv6.15.14//NONSGML v1.0//EN
CALSCALE:GREGORIAN
METHOD:PUBLISH
X-ORIGINAL-URL:https://www.mut.ac.ke
X-WR-CALDESC:Events for Murang&#039;a University of Technology
REFRESH-INTERVAL;VALUE=DURATION:PT1H
X-Robots-Tag:noindex
X-PUBLISHED-TTL:PT1H
BEGIN:VTIMEZONE
TZID:UTC
BEGIN:STANDARD
TZOFFSETFROM:+0000
TZOFFSETTO:+0000
TZNAME:UTC
DTSTART:20220101T000000
END:STANDARD
END:VTIMEZONE
BEGIN:VEVENT
DTSTART;TZID=UTC:20230929T090000
DTEND;TZID=UTC:20230929T170000
DTSTAMP:20260420T101004
CREATED:20230915T023127Z
LAST-MODIFIED:20240207T112935Z
UID:10787-1695978000-1696006800@www.mut.ac.ke
SUMMARY:7th Graduation Ceremony
DESCRIPTION:Welcome to our 7th Graduation Ceremony\nDate: Friday\, 29th September\, 2023\nTime: 9:00 a.m\nClick to read more on the 7th Graduation Ceremony \n 
URL:https://www.mut.ac.ke/event/7th-graduation-ceremony/
END:VEVENT
END:VCALENDAR